BEGIN:VCALENDAR
CALSCALE:GREGORIAN
VERSION:2.0
PRODID:-//TYPO3/NONSGML News system (news)//EN
BEGIN:VEVENT
UID:news-33@www.xn--jobcenter-tl-wor-wwb.de
DTSTAMP:20241125T100914Z
DTSTART;TZID=Europe/Berlin:20250111T143000
DTEND;TZID=Europe/Berlin:20250111T163000
SUMMARY:Alleinerziehend, aber zusammen!
URL;VALUE=URI:www.xn--jobcenter-tl-wor-wwb.de/ihr-jobcenter/veranstaltungen/alleinerziehend-aber-zusammen
END:VEVENT
END:VCALENDAR
